BEGIN:VCALENDAR
VERSION:2.0
PRODID:icalendar-ruby
CALSCALE:GREGORIAN
BEGIN:VEVENT
DTSTAMP:20260420T025013Z
UID:4a50d494-7868-44ed-b5f3-f02c5c778108
DTSTART:20220724T090000Z
DTEND:20220730T000000Z
SUMMARY:24-29 July 2022\, Physics School “As thin as it gets: Physics of 
 2D Materials and Heterostructures”\, Bad Honnef\, Germany
URL;VALUE=URI:https://www.laserlab-europe.eu/events-1/conferences/conferenc
 e-calendar/24-29-july-2022-physics-school-201cas-thin-as-it-gets-physics-o
 f-2d-materials-and-heterostructures201d-bad-honnef-germany
END:VEVENT
END:VCALENDAR
