BEGIN:VCALENDAR
VERSION:2.0
PRODID:icalendar-ruby
CALSCALE:GREGORIAN
BEGIN:VEVENT
DTSTAMP:20260420T224710Z
UID:085a9758-2ebb-4156-bf5c-586048ce95a9
DTSTART:20220424T090000Z
DTEND:20220430T000000Z
SUMMARY:24-29 April 2022\, International Conference on Laser Ablation - COL
 A\, Matsue\, Japan
URL;VALUE=URI:https://www.laserlab-europe.eu/events-1/conferences/conferenc
 e-calendar/24-29-april-2022-international-conference-on-laser-ablation-col
 a-matsue-japan
END:VEVENT
END:VCALENDAR
