BEGIN:VCALENDAR
VERSION:2.0
PRODID:icalendar-ruby
CALSCALE:GREGORIAN
BEGIN:VEVENT
DTSTAMP:20260422T180335Z
UID:a4e12d71-d8a9-485c-9d3f-37ba26e3d43a
DTSTART:20221024T090000Z
DTEND:20221029T000000Z
LOCATION:Rue de la Citadelle
SUMMARY:24-28 October 2022\, Photodynamic Therapy and Photodiagnosis Update
  2022\, Nancy\, France
URL;VALUE=URI:https://www.laserlab-europe.eu/events-1/conferences/conferenc
 e-calendar/24-28-october-2022-photodynamic-therapy-and-photodiagnosis-upda
 te-2022-nancy-france
END:VEVENT
END:VCALENDAR
