BEGIN:VCALENDAR
VERSION:2.0
PRODID:icalendar-ruby
CALSCALE:GREGORIAN
BEGIN:VEVENT
DTSTAMP:20260421T141853Z
UID:4d237df7-3836-4384-8751-9101ed572776
DTSTART:20220424T090000Z
DTEND:20220428T000000Z
SUMMARY:24-27 April 2022\, Biophotonics Congress: Biomedical Optics\, Fort 
 Lauderdale\, Florida\, US
URL;VALUE=URI:https://www.laserlab-europe.eu/events-1/conferences/conferenc
 e-calendar/24-27-april-2022-biophotonics-congress-biomedical-optics-fort-l
 auderdale-florida-us
END:VEVENT
END:VCALENDAR
