BEGIN:VCALENDAR
VERSION:2.0
PRODID:icalendar-ruby
CALSCALE:GREGORIAN
BEGIN:VEVENT
DTSTAMP:20260421T200251Z
UID:9963b521-67f8-4460-af0c-cb90d3d9be23
DTSTART:20220824T090000Z
DTEND:20220827T000000Z
SUMMARY:24-26 August 2022\, Atmospheric Spectroscopy Applications - ASA - H
 ITRAN 2022\, Reims\, France
URL;VALUE=URI:https://www.laserlab-europe.eu/events-1/conferences/conferenc
 e-calendar/24-26-august-2022-atmospheric-spectroscopy-applications-asa-hit
 ran-2022-reims-france
END:VEVENT
END:VCALENDAR
