BEGIN:VCALENDAR
VERSION:2.0
PRODID:icalendar-ruby
CALSCALE:GREGORIAN
BEGIN:VEVENT
DTSTAMP:20260422T042521Z
UID:407528c1-9257-429a-9153-fc32fd52ba63
DTSTART:20230123T090000Z
DTEND:20230124T000000Z
DESCRIPTION:Satellite meeting of the 2023 EuXFEL Users’ Meeting
SUMMARY:23 January 2023\, Workshop on "X-ray Raman and other non-resonant I
 nelastic X-ray Scattering at XFELs”\, hybrid
URL;VALUE=URI:https://www.laserlab-europe.eu/events-1/conferences/conferenc
 e-calendar/23-january-2023-workshop-on-x-ray-raman-and-other-non-resonant-
 inelastic-x-ray-scattering-at-xfels201d-hybrid
END:VEVENT
END:VCALENDAR
