BEGIN:VCALENDAR
VERSION:2.0
PRODID:icalendar-ruby
CALSCALE:GREGORIAN
BEGIN:VEVENT
DTSTAMP:20260422T201218Z
UID:6ca7fa53-3544-4231-8587-3b74bbe3368d
DTSTART:20220623T090000Z
DTEND:20220629T000000Z
SUMMARY:23-28 June 2022\, International Photodynamic Association World Cong
 ress\, Moscow\, Russia
URL;VALUE=URI:https://www.laserlab-europe.eu/events-1/conferences/conferenc
 e-calendar/23-28-june-2022-international-photodynamic-association-world-co
 ngress-moscow-russia
END:VEVENT
END:VCALENDAR
