BEGIN:VCALENDAR
VERSION:2.0
PRODID:icalendar-ruby
CALSCALE:GREGORIAN
BEGIN:VEVENT
DTSTAMP:20260421T091748Z
UID:b955e812-6f64-4f6c-a102-f0a55af39daa
DTSTART:20230723T090000Z
DTEND:20230729T000000Z
SUMMARY:23-28 July 2023\, Gordon Research Conference on Dynamics at Surface
 s\, Newport\, RI\, USA
URL;VALUE=URI:https://www.laserlab-europe.eu/events-1/conferences/conferenc
 e-calendar/23-28-july-2023-gordon-research-conference-on-dynamics-at-surfa
 ces-newport-ri-usa
END:VEVENT
END:VCALENDAR
