BEGIN:VCALENDAR
VERSION:2.0
PRODID:icalendar-ruby
CALSCALE:GREGORIAN
BEGIN:VEVENT
DTSTAMP:20260421T203758Z
UID:f45ba9c2-b9ae-42f7-8062-ddc3c02fec4b
DTSTART:20221023T090000Z
DTEND:20221028T000000Z
SUMMARY:23-27 October 2022\, Laser Congress\, Prague\, Czech Republic
URL;VALUE=URI:https://www.laserlab-europe.eu/events-1/conferences/conferenc
 e-calendar/23-27-october-2022-laser-congress-prague-czech-republic
END:VEVENT
END:VCALENDAR
