BEGIN:VCALENDAR
VERSION:2.0
PRODID:icalendar-ruby
CALSCALE:GREGORIAN
BEGIN:VEVENT
DTSTAMP:20260421T222700Z
UID:bdb0386b-794b-4485-913b-bd310a1cb06a
DTSTART:20250323T090000Z
DTEND:20250328T000000Z
DESCRIPTION:Symposium in the TMS 2025 Annual Meeting &amp\; Exhibition
SUMMARY:23-27 March 2025\, Symposium on Characterization of Materials throu
 gh High Resolution Coherent Imaging\, Las Vegas\, Nevada\, USA
URL;VALUE=URI:https://www.laserlab-europe.eu/events/conferences/conference-
 calendar/23-27-march-2025-symposium-on-characterization-of-materials-throu
 gh-high-resolution-coherent-imaging-las-vegas
END:VEVENT
END:VCALENDAR
