BEGIN:VCALENDAR
VERSION:2.0
PRODID:icalendar-ruby
CALSCALE:GREGORIAN
BEGIN:VEVENT
DTSTAMP:20260422T201302Z
UID:6eefb218-1f97-4343-81db-00ec0bf421c2
DTSTART:20250323T090000Z
DTEND:20250328T000000Z
SUMMARY:23-27 March 2025\, ACS Symposium for Attosecond Spectroscopy: From 
 Atoms to Solution-Phase Chemistry: Symposium\, San Diego\, California\, US
 A
URL;VALUE=URI:https://www.laserlab-europe.eu/events/conferences/conference-
 calendar/23-27-march-2025-acs-symposium-for-attosecond-spectroscopy-from-a
 toms-to-solution-phase-chemistry-symposium-san-diego-california-usa
END:VEVENT
END:VCALENDAR
