BEGIN:VCALENDAR
VERSION:2.0
PRODID:icalendar-ruby
CALSCALE:GREGORIAN
BEGIN:VEVENT
DTSTAMP:20260421T115037Z
UID:998c9dab-1eb4-4f79-b991-b146947b61b5
DTSTART:20230123T090000Z
DTEND:20230128T000000Z
LOCATION:Blomkamp
SUMMARY:23-27 January 2023\, European XFEL/DESY Photon Science Users' Meeti
 ng\, Hamburg\, Germany
URL;VALUE=URI:https://www.laserlab-europe.eu/events-1/conferences/conferenc
 e-calendar/23-27-january-2023-european-xfel-desy-photon-science-users-meet
 ing-hamburg-germany
END:VEVENT
END:VCALENDAR
