BEGIN:VCALENDAR
VERSION:2.0
PRODID:icalendar-ruby
CALSCALE:GREGORIAN
BEGIN:VEVENT
DTSTAMP:20260421T173817Z
UID:4bf1bd76-5561-4ffc-9188-3e621ad65397
DTSTART:20220823T090000Z
DTEND:20220828T000000Z
SUMMARY:23-27 August 2022\, Microsymposium on "Time-resolved diffraction an
 d scattering techniques" at the European Crystallographic Meeting\, Versai
 lles\, France
URL;VALUE=URI:https://www.laserlab-europe.eu/events-1/conferences/conferenc
 e-calendar/23-27-august-2022-microsymposium-on-time-resolved-diffraction-a
 nd-scattering-techniques-at-the-european-crystallographic-meeting-versaill
 es-france
END:VEVENT
END:VCALENDAR
