BEGIN:VCALENDAR
VERSION:2.0
PRODID:icalendar-ruby
CALSCALE:GREGORIAN
BEGIN:VEVENT
DTSTAMP:20260422T043242Z
UID:c9bffc18-99a9-4a2c-8bf4-80ca36e0c640
DTSTART:20220823T090000Z
DTEND:20220828T000000Z
SUMMARY:23-27 August 2022\, European Crystallographic Meeting\, Versailles\
 , France
URL;VALUE=URI:https://www.laserlab-europe.eu/events-1/conferences/conferenc
 e-calendar/23-27-august-2022-european-crystallographic-meeting-versailles-
 france
END:VEVENT
END:VCALENDAR
