BEGIN:VCALENDAR
VERSION:2.0
PRODID:icalendar-ruby
CALSCALE:GREGORIAN
BEGIN:VEVENT
DTSTAMP:20260422T035320Z
UID:32782df0-18ea-46ab-bd8e-079c66114d3e
DTSTART:20240923T090000Z
DTEND:20240927T000000Z
SUMMARY:23-26 September 2024\, International Conference on Electron Capture
  in an environment - real experiments and models (ICECream)\, Tübingen\, 
 Germany
URL;VALUE=URI:https://www.laserlab-europe.eu/events/conferences/conference-
 calendar/23-26-september-2024-international-conference-on-electron-capture
 -in-an-environment-real-experiments-and-models-icecream-tubingen-germany
END:VEVENT
END:VCALENDAR
