BEGIN:VCALENDAR
VERSION:2.0
PRODID:icalendar-ruby
CALSCALE:GREGORIAN
BEGIN:VEVENT
DTSTAMP:20260420T052542Z
UID:604e39eb-1a81-40f5-9bd6-0799d7931242
DTSTART:20220523T090000Z
DTEND:20220526T000000Z
SUMMARY:23-25 May 2022\, Faraday Discussion "From optical to THz control of
  materials"\, London\, UK
URL;VALUE=URI:https://www.laserlab-europe.eu/events-1/conferences/conferenc
 e-calendar/23-25-may-2022-faraday-discussion-from-optical-to-thz-control-o
 f-materials-london-uk
END:VEVENT
END:VCALENDAR
