BEGIN:VCALENDAR
VERSION:2.0
PRODID:icalendar-ruby
CALSCALE:GREGORIAN
BEGIN:VEVENT
DTSTAMP:20260420T040656Z
UID:dca768c2-ef18-4746-9742-c474bd265163
DTSTART:20220323T090000Z
DTEND:20220326T000000Z
SUMMARY:23-25 March 2022\, HILAS - High-Intensity Lasers and High-Field Phe
 nomena\, Budapest\, Hungary
URL;VALUE=URI:https://www.laserlab-europe.eu/events-1/conferences/conferenc
 e-calendar/23-25-march-2022-hilas-high-intensity-lasers-and-high-field-phe
 nomena-budapest-hungary
END:VEVENT
END:VCALENDAR
