BEGIN:VCALENDAR
VERSION:2.0
PRODID:icalendar-ruby
CALSCALE:GREGORIAN
BEGIN:VEVENT
DTSTAMP:20260422T203842Z
UID:cb6cefb2-aa74-486e-b263-9efb36c918d1
DTSTART:20240723T090000Z
DTEND:20240726T000000Z
SUMMARY:23-25\, July 2024\, International Symposium on Singlet Fission and 
 Photon Fusion (ISPF2)\, New York\, USA
URL;VALUE=URI:https://www.laserlab-europe.eu/events/conferences/conference-
 calendar/23-25-july-2024-international-symposium-on-singlet-fission-and-ph
 oton-fusion-ispf2-new-york-usa
END:VEVENT
END:VCALENDAR
