BEGIN:VCALENDAR
VERSION:2.0
PRODID:icalendar-ruby
CALSCALE:GREGORIAN
BEGIN:VEVENT
DTSTAMP:20260421T183108Z
UID:06f20411-540c-4b30-8a52-80f5c4e414f6
DTSTART:20240423T090000Z
DTEND:20240425T000000Z
SUMMARY:23-24 April 2024\, European User Offices Meeting - EUOM\, Magurele\
 , Romania
URL;VALUE=URI:https://www.laserlab-europe.eu/events/conferences/conference-
 calendar/23-24-april-2024-european-user-offices-meeting-euom-magurele-roma
 nia
END:VEVENT
END:VCALENDAR
