BEGIN:VCALENDAR
VERSION:2.0
PRODID:icalendar-ruby
CALSCALE:GREGORIAN
BEGIN:VEVENT
DTSTAMP:20260420T215725Z
UID:6d3a7c4d-d11e-4ca2-ab62-693c78aeadf5
DTSTART:20230922T090000Z
DTEND:20230923T000000Z
SUMMARY:22 September 2023\, Scientific Applications of Quantum Computing: M
 aterials\, Chemistry and Biology\, London\, UK
URL;VALUE=URI:https://www.laserlab-europe.eu/events-1/conferences/conferenc
 e-calendar/22-september-2023-scientific-applications-of-quantum-computing-
 materials-chemistry-and-biology-london-uk
END:VEVENT
END:VCALENDAR
