BEGIN:VCALENDAR
VERSION:2.0
PRODID:icalendar-ruby
CALSCALE:GREGORIAN
BEGIN:VEVENT
DTSTAMP:20260419T230906Z
UID:23d7e55b-fac6-482d-a320-58e079482744
DTSTART:20220222T090000Z
DTEND:20220222T100000Z
DESCRIPTION:This webinar will explore the current state-of-the-art and rece
 nt developments in deep neural networks for simulating X-ray spectroscopy.
  Speaker: Dr Conor Rankine\, Newcastle University
SUMMARY:22 February 2022\, CONEXS webinar: Accurate\, affordable\, and gene
 ralisable XAS Simulations using deep neural networks\, online
URL;VALUE=URI:https://www.laserlab-europe.eu/events-1/conferences/conferenc
 e-calendar/22-february-2022-conexs-webinar-accurate-affordable-and-general
 isable-xas-simulations-using-deep-neural-networks-online
END:VEVENT
END:VCALENDAR
