BEGIN:VCALENDAR
VERSION:2.0
PRODID:icalendar-ruby
CALSCALE:GREGORIAN
BEGIN:VEVENT
DTSTAMP:20260419T135514Z
UID:b755b6eb-2497-4a1e-8fce-ca5908e84f53
DTSTART:20250622T090000Z
DTEND:20250628T000000Z
SUMMARY:22-27 June 2025\, International Symposium on Molecular Beams (ISMB)
 \, St. Moritz\, Switzerland
URL;VALUE=URI:https://www.laserlab-europe.eu/events/conferences/conference-
 calendar/22-27-june-2025-international-symposium-on-molecular-beams-ismb-s
 t-moritz-switzerland
END:VEVENT
END:VCALENDAR
