BEGIN:VCALENDAR
VERSION:2.0
PRODID:icalendar-ruby
CALSCALE:GREGORIAN
BEGIN:VEVENT
DTSTAMP:20260419T203949Z
UID:d88ed2ff-3d04-4eb1-9421-eb2e015912c3
DTSTART:20240922T090000Z
DTEND:20240927T000000Z
SUMMARY:22-26 September 2024\, European Conference on Optical Communication
  (ECOC)\, Frankfurt\, Germany
URL;VALUE=URI:https://www.laserlab-europe.eu/events/conferences/conference-
 calendar/22-26-september-2024-european-conference-on-optical-communication
 -ecoc-frankfurt-germany
END:VEVENT
END:VCALENDAR
