BEGIN:VCALENDAR
VERSION:2.0
PRODID:icalendar-ruby
CALSCALE:GREGORIAN
BEGIN:VEVENT
DTSTAMP:20260422T212028Z
UID:a5596e01-ae73-4ca3-b856-911c157b0ad3
DTSTART:20230522T090000Z
DTEND:20230527T000000Z
SUMMARY:22-26 May 2023\, ZCAM School on "Ultrafast phenomena in Chemistry: 
 Laser-matter interactions at the femto- and attosecond time scales"\, Zara
 goza\, Spain
URL;VALUE=URI:https://www.laserlab-europe.eu/events-1/conferences/conferenc
 e-calendar/22-26-may-2023-zcam-school-on-ultrafast-phenomena-in-chemistry-
 laser-matter-interactions-at-the-femto-and-attosecond-time-scales-zaragoza
 -spain
END:VEVENT
END:VCALENDAR
