BEGIN:VCALENDAR
VERSION:2.0
PRODID:icalendar-ruby
CALSCALE:GREGORIAN
BEGIN:VEVENT
DTSTAMP:20260422T212033Z
UID:c10ca9aa-bcc1-4a85-a09f-9a5cc0d22c85
DTSTART:20230522T090000Z
DTEND:20230527T000000Z
SUMMARY:22-26 May 2023\, CECAM School on "Ultrafast phenomena in Chemistry:
  Laser-matter interactions at the femto- and attosecond time scales"\, Zar
 agoza\, Spain
URL;VALUE=URI:https://www.laserlab-europe.eu/events-1/conferences/conferenc
 e-calendar/22-26-may-2023-cecam-school-on-ultrafast-phenomena-in-chemistry
 -laser-matter-interactions-at-the-femto-and-attosecond-time-scales-zaragoz
 a-spain
END:VEVENT
END:VCALENDAR
