BEGIN:VCALENDAR
VERSION:2.0
PRODID:icalendar-ruby
CALSCALE:GREGORIAN
BEGIN:VEVENT
DTSTAMP:20260421T173814Z
UID:2256698d-a0f7-439e-b773-d06f9e4daa95
DTSTART:20240122T090000Z
DTEND:20240127T000000Z
SUMMARY:22-26 January 2024\, European XFEL/DESY Photon Science Users' Meeti
 ng\, Hamburg\, Germany
URL;VALUE=URI:https://www.laserlab-europe.eu/events/conferences/conference-
 calendar/22-26-january-2024-european-xfel-desy-photon-science-users-meetin
 g-hamburg-germany
END:VEVENT
END:VCALENDAR
