BEGIN:VCALENDAR
VERSION:2.0
PRODID:icalendar-ruby
CALSCALE:GREGORIAN
BEGIN:VEVENT
DTSTAMP:20260421T072017Z
UID:633f2152-5838-40b0-92c1-392f6fbd5dee
DTSTART:20220822T090000Z
DTEND:20220826T000000Z
SUMMARY:22-25 August 2022\, Symposium on Open quantum systems and non-adiab
 atic dynamics\, at the Psi-k 2022 Conference\, Lausanne\, Switzerland
URL;VALUE=URI:https://www.laserlab-europe.eu/events-1/conferences/conferenc
 e-calendar/22-25-august-2022-symposium-on-open-quantum-systems-and-non-adi
 abatic-dynamics-at-the-psi-k-2022-conference-lausanne-switzerland
END:VEVENT
END:VCALENDAR
