BEGIN:VCALENDAR
VERSION:2.0
PRODID:icalendar-ruby
CALSCALE:GREGORIAN
BEGIN:VEVENT
DTSTAMP:20260422T052331Z
UID:dd2fcc67-f520-47fa-97b8-5f43668af7d1
DTSTART:20220322T090000Z
DTEND:20220325T000000Z
SUMMARY:22-24 March 2022\, Careers in Photonics - CARLA career event\, Brus
 sels\, Belgium
URL;VALUE=URI:https://www.laserlab-europe.eu/events-1/conferences/conferenc
 e-calendar/22-24-march-2022-careers-in-photonics-carla-career-event-brusse
 ls-belgium
END:VEVENT
END:VCALENDAR
