BEGIN:VCALENDAR
VERSION:2.0
PRODID:icalendar-ruby
CALSCALE:GREGORIAN
BEGIN:VEVENT
DTSTAMP:20260422T203842Z
UID:e6729436-b331-43de-96b7-5b183588ec7b
DTSTART:20221021T090000Z
DTEND:20221022T000000Z
DESCRIPTION:Speaker: Dr Morgane Vacher (University of Nantes) - 3pm London 
 time
SUMMARY:21 October 2022\, Atto Fridays seminar: Simulations of photo-induce
 d reaction dynamics in molecules and X-ray spectroscopy probe\, online
URL;VALUE=URI:https://www.laserlab-europe.eu/events-1/conferences/conferenc
 e-calendar/21-october-2022-atto-fridays-seminar-simulations-of-photo-induc
 ed-reaction-dynamics-in-molecules-and-x-ray-spectroscopy-probe-online
END:VEVENT
END:VCALENDAR
