BEGIN:VCALENDAR
VERSION:2.0
PRODID:icalendar-ruby
CALSCALE:GREGORIAN
BEGIN:VEVENT
DTSTAMP:20260422T042522Z
UID:da2d2548-1d9c-43e3-8dfb-65ab462a04eb
DTSTART:20221121T090000Z
DTEND:20221122T000000Z
SUMMARY:21 November 2022\, Quantum Metrology: the present and the future\, 
 Lisbon\, Portugal and online
URL;VALUE=URI:https://www.laserlab-europe.eu/events-1/conferences/conferenc
 e-calendar/21-november-2022-quantum-metrology-the-present-and-the-future-l
 isbon-portugal-and-online
END:VEVENT
END:VCALENDAR
