BEGIN:VCALENDAR
VERSION:2.0
PRODID:icalendar-ruby
CALSCALE:GREGORIAN
BEGIN:VEVENT
DTSTAMP:20260422T103006Z
UID:3553f6d2-f1fc-4ebc-971e-01f7fc8947d1
DTSTART:20240721T090000Z
DTEND:20240726T100000Z
SUMMARY:21-26 July 2024\, International Workshop on Photoionization (IWP) a
 nd Resonant Inelastic X-ray Scattering (RIXS)\, Ascona Switzerland
URL;VALUE=URI:https://www.laserlab-europe.eu/events/conferences/conference-
 calendar/21-26-july-2024-international-workshop-on-photoionization-iwp-and
 -resonant-inelastic-x-ray-scattering-rixs-ascona-switzerland
END:VEVENT
END:VCALENDAR
