BEGIN:VCALENDAR
VERSION:2.0
PRODID:icalendar-ruby
CALSCALE:GREGORIAN
BEGIN:VEVENT
DTSTAMP:20260421T052910Z
UID:cb34cc26-1a0d-4a87-8b43-9118496a0ca0
DTSTART:20220821T090000Z
DTEND:20220827T000000Z
SUMMARY:21-26 August 2022\, International Conference Series on Laser-Light 
 and Interactions with Particles\, Warsaw\, Poland
URL;VALUE=URI:https://www.laserlab-europe.eu/events-1/conferences/conferenc
 e-calendar/21-26-august-2022-international-conference-series-on-laser-ligh
 t-and-interactions-with-particles-warsaw-poland
END:VEVENT
END:VCALENDAR
