BEGIN:VCALENDAR
VERSION:2.0
PRODID:icalendar-ruby
CALSCALE:GREGORIAN
BEGIN:VEVENT
DTSTAMP:20260419T175018Z
UID:099acef8-037e-49ab-bb5c-7289c33d0ae5
DTSTART:20220821T090000Z
DTEND:20220827T000000Z
SUMMARY:21-26 August 2022\, European Conference on the Dynamics of Molecula
 r Systems (MOLEC)\, Hamburg\, Germany
URL;VALUE=URI:https://www.laserlab-europe.eu/events-1/conferences/conferenc
 e-calendar/21-26-august-2022-european-conference-on-the-dynamics-of-molecu
 lar-systems-molec-hamburg-germany
END:VEVENT
END:VCALENDAR
