BEGIN:VCALENDAR
VERSION:2.0
PRODID:icalendar-ruby
CALSCALE:GREGORIAN
BEGIN:VEVENT
DTSTAMP:20260422T183942Z
UID:47ee4823-dd8f-4002-90f4-707346acebec
DTSTART:20220321T090000Z
DTEND:20220326T000000Z
SUMMARY:21-25 March 2022\, International School “The Frontiers of Attosec
 ond and Ultrafast X-ray Science”\, online
URL;VALUE=URI:https://www.laserlab-europe.eu/events-1/conferences/conferenc
 e-calendar/21-25-march-2022-international-school-201cthe-frontiers-of-atto
 second-and-ultrafast-x-ray-science201d-online
END:VEVENT
END:VCALENDAR
