BEGIN:VCALENDAR
VERSION:2.0
PRODID:icalendar-ruby
CALSCALE:GREGORIAN
BEGIN:VEVENT
DTSTAMP:20260420T025017Z
UID:9d73a67f-fe6a-43cc-be80-0df8847a545b
DTSTART:20220821T090000Z
DTEND:20220826T000000Z
SUMMARY:21-25 August 2022\, The molQueST Conference\, Monte Verità\, Ascon
 a\, Italy
URL;VALUE=URI:https://www.laserlab-europe.eu/events-1/conferences/conferenc
 e-calendar/21-25-august-2022-the-molquest-conference-monte-verita-ascona-i
 taly
END:VEVENT
END:VCALENDAR
