BEGIN:VCALENDAR
VERSION:2.0
PRODID:icalendar-ruby
CALSCALE:GREGORIAN
BEGIN:VEVENT
DTSTAMP:20260420T042725Z
UID:0b0b7c78-331f-491e-8b3a-a748020fc0c7
DTSTART:20220621T090000Z
DTEND:20220625T000000Z
SUMMARY:21-24 June 2022\, International Conference on Coherent Multidimensi
 onal Spectroscopy (CMDS2022)\, Austin\, Texas\, USA
URL;VALUE=URI:https://www.laserlab-europe.eu/events-1/conferences/conferenc
 e-calendar/21-24-june-2022-international-conference-on-coherent-multidimen
 sional-spectroscopy-cmds2022-austin-texas-usa
END:VEVENT
END:VCALENDAR
