BEGIN:VCALENDAR
VERSION:2.0
PRODID:icalendar-ruby
CALSCALE:GREGORIAN
BEGIN:VEVENT
DTSTAMP:20260420T130419Z
UID:c170dbe1-c2e5-45fc-ac9b-792f4f2792cc
DTSTART:20240421T090000Z
DTEND:20240425T000000Z
SUMMARY:21-24 April 2024\, European Conference On Non-Linear Optical Spectr
 oscopy - ECONOS\, Vienna\, Austria
URL;VALUE=URI:https://www.laserlab-europe.eu/events/conferences/conference-
 calendar/21-24-april-2024-european-conference-on-non-linear-optical-spectr
 oscopy-econos-vienna-austria
END:VEVENT
END:VCALENDAR
