BEGIN:VCALENDAR
VERSION:2.0
PRODID:icalendar-ruby
CALSCALE:GREGORIAN
BEGIN:VEVENT
DTSTAMP:20260421T144001Z
UID:b7442a2f-7838-4172-b88b-1ef7aeeb09dc
DTSTART:20230321T090000Z
DTEND:20230324T000000Z
SUMMARY:21-23 March 2023\, IMPULSE workshop: standardization of metrology p
 rocedures for lasers and secondary sources (STAMPLASS 2023)\, Magurele\, R
 omania
URL;VALUE=URI:https://www.laserlab-europe.eu/events-1/conferences/conferenc
 e-calendar/21-23-march-2023-impulse-workshop-standardization-of-metrology-
 procedures-for-lasers-and-secondary-sources-stamplass-2023-magurele-romani
 a
END:VEVENT
END:VCALENDAR
