BEGIN:VCALENDAR
VERSION:2.0
PRODID:icalendar-ruby
CALSCALE:GREGORIAN
BEGIN:VEVENT
DTSTAMP:20260422T233434Z
UID:b15d76aa-a4e9-425e-b342-29450767780e
DTSTART:20240221T090000Z
DTEND:20240224T000000Z
SUMMARY:21-23 February 2024\, Conference of Young Researchers in Atomic and
  Molecular Physics - J2IFAM2024\, Valencia\, Spain
URL;VALUE=URI:https://www.laserlab-europe.eu/events/conferences/conference-
 calendar/21-23-february-2024-conference-of-young-researchers-in-atomic-and
 -molecular-physics-j2ifam2024-valencia-spain
END:VEVENT
END:VCALENDAR
