BEGIN:VCALENDAR
VERSION:2.0
PRODID:icalendar-ruby
CALSCALE:GREGORIAN
BEGIN:VEVENT
DTSTAMP:20260422T191607Z
UID:33b90623-74ea-46da-98ca-691be78eff8a
DTSTART:20220520T090000Z
DTEND:20220521T000000Z
DESCRIPTION:Dr Kathryn Hamilton (Drake University in Des Moines\, Iowa)\, 3
 pm London time.
SUMMARY:20 May 2022\, Atto Fridays: Attosecond Photoionization Delays in No
 ble-Gas Atoms\,
URL;VALUE=URI:https://www.laserlab-europe.eu/events-1/conferences/conferenc
 e-calendar/20-may-2022-atto-fridays-attosecond-photoionization-delays-in-n
 oble-gas-atoms
END:VEVENT
END:VCALENDAR
