BEGIN:VCALENDAR
VERSION:2.0
PRODID:icalendar-ruby
CALSCALE:GREGORIAN
BEGIN:VEVENT
DTSTAMP:20260423T001553Z
UID:6bc3c059-5a12-41ff-b3c7-fe51e7ab8bd8
DTSTART:20220220T090000Z
DTEND:20220226T000000Z
SUMMARY:20-25 February 2022\, Ultrafast Phenomena in Cooperative Systems Go
 rdon Research Conference\, Ventura\, CA\, United States
URL;VALUE=URI:https://www.laserlab-europe.eu/events-1/conferences/conferenc
 e-calendar/20-25-february-2022-ultrafast-phenomena-in-cooperative-systems-
 gordon-research-conference
END:VEVENT
END:VCALENDAR
