BEGIN:VCALENDAR
VERSION:2.0
PRODID:icalendar-ruby
CALSCALE:GREGORIAN
BEGIN:VEVENT
DTSTAMP:20260422T212039Z
UID:6fcd2c94-c411-45fa-ba55-f3fb06ca8bd5
DTSTART:20240520T090000Z
DTEND:20240525T000000Z
SUMMARY:20-24 May 2024\, CECAM School on "Ultrafast phenomena in Chemistry:
  Laser-matter interactions at the femto- and attosecond time scales"\, Zar
 agoza\, Spain
URL;VALUE=URI:https://www.laserlab-europe.eu/events/conferences/conference-
 calendar/20-24-may-2024-cecam-school-on-ultrafast-phenomena-in-chemistry-l
 aser-matter-interactions-at-the-femto-and-attosecond-time-scales-zaragoza-
 spain
END:VEVENT
END:VCALENDAR
