BEGIN:VCALENDAR
VERSION:2.0
PRODID:icalendar-ruby
CALSCALE:GREGORIAN
BEGIN:VEVENT
DTSTAMP:20260422T044601Z
UID:ffd262ab-9fb1-4240-bc10-445880955889
DTSTART:20230320T090000Z
DTEND:20230325T000000Z
DESCRIPTION:The topic is hands-on training in the Design\, Performance and 
 Analysis of XAS experiments.
SUMMARY:20-24 March 2023\, LINXS - XAS Winter School on Design\, Performanc
 e and Analysis of XAS experiments\, Lund\, Sweden
URL;VALUE=URI:https://www.laserlab-europe.eu/events-1/conferences/conferenc
 e-calendar/20-24-march-2023-linxs-xas-winter-school-on-design-performance-
 and-analysis-of-xas-experiments-lund-sweden
END:VEVENT
END:VCALENDAR
