BEGIN:VCALENDAR
VERSION:2.0
PRODID:icalendar-ruby
CALSCALE:GREGORIAN
BEGIN:VEVENT
DTSTAMP:20260422T081258Z
UID:b2ea1bfb-41ff-4778-bf0f-897dc22c1b43
DTSTART:20220620T090000Z
DTEND:20220625T000000Z
SUMMARY:20-24 June 2022\, International Symposium on Molecular Spectroscopy
 \, Illinois\, USA\, Hybrid Meeting
URL;VALUE=URI:https://www.laserlab-europe.eu/events-1/conferences/conferenc
 e-calendar/20-24-june-2022-international-symposium-on-molecular-spectrosco
 py-hybrid-meeting
END:VEVENT
END:VCALENDAR
