BEGIN:VCALENDAR
VERSION:2.0
PRODID:icalendar-ruby
CALSCALE:GREGORIAN
BEGIN:VEVENT
DTSTAMP:20260422T235551Z
UID:57aff578-8070-4516-8b63-cbcb18194e6d
DTSTART:20220620T090000Z
DTEND:20220625T000000Z
SUMMARY:20-24 June 2022\, International Conference Laser Optics - ICLO\, Sa
 int Petersburg\, Russia
URL;VALUE=URI:https://www.laserlab-europe.eu/events-1/conferences/conferenc
 e-calendar/20-24-june-2022-international-conference-laser-optics-iclo-sain
 t-petersburg-russia
END:VEVENT
END:VCALENDAR
