BEGIN:VCALENDAR
VERSION:2.0
PRODID:icalendar-ruby
CALSCALE:GREGORIAN
BEGIN:VEVENT
DTSTAMP:20260420T101137Z
UID:c8021570-9aeb-4f72-803e-4d04b9ef95cd
DTSTART:20230820T090000Z
DTEND:20230825T000000Z
SUMMARY:20-24 August 2023\, SPIE Optics + Photonics\, San Diego\, Californi
 a\, USA
URL;VALUE=URI:https://www.laserlab-europe.eu/events-1/conferences/conferenc
 e-calendar/20-24-august-2023-spie-optics-photonics-san-diego-california-us
 a
END:VEVENT
END:VCALENDAR
