BEGIN:VCALENDAR
VERSION:2.0
PRODID:icalendar-ruby
CALSCALE:GREGORIAN
BEGIN:VEVENT
DTSTAMP:20260422T033516Z
UID:f496ee24-c539-4bc0-9f80-91304cdea909
DTSTART:20220620T090000Z
DTEND:20220624T000000Z
SUMMARY:20-23 June 2022\, Ultrafast X-ray Summer School - UXSS\, Menlo Park
 \, CA\, USA
URL;VALUE=URI:https://www.laserlab-europe.eu/events-1/conferences/conferenc
 e-calendar/20-23-june-2022-ultrafast-x-ray-summer-school-uxss-menlo-park-c
 a-usa
END:VEVENT
END:VCALENDAR
