BEGIN:VCALENDAR
VERSION:2.0
PRODID:icalendar-ruby
CALSCALE:GREGORIAN
BEGIN:VEVENT
DTSTAMP:20260420T012834Z
UID:cff1ade3-88e3-4554-9390-4498a18a8dbc
DTSTART:20220620T090000Z
DTEND:20220624T000000Z
SUMMARY:20-23 June 2022\, Symposium on Plasma Physics and Technology - SPPT
  2022\, Prague\, Czech Republic
URL;VALUE=URI:https://www.laserlab-europe.eu/events-1/conferences/conferenc
 e-calendar/20-23-june-2022-symposium-on-plasma-physics-and-technology-sppt
 -2022-prague-czech-republic
END:VEVENT
END:VCALENDAR
