BEGIN:VCALENDAR
VERSION:2.0
PRODID:icalendar-ruby
CALSCALE:GREGORIAN
BEGIN:VEVENT
DTSTAMP:20260423T043759Z
UID:d5e300d9-ca59-46a8-b534-7dd9ca0218b0
DTSTART:20241120T090000Z
DTEND:20241123T000000Z
SUMMARY:20-22 November 2024\, Energy materials characterisation with X-rays
  & neutrons for the circular economy\, Grenoble\, France
URL;VALUE=URI:https://www.laserlab-europe.eu/events/conferences/conference-
 calendar/20-22-november-2024-energy-materials-characterisation-with-x-rays
 -neutrons-for-the-circular-economy-grenoble-france
END:VEVENT
END:VCALENDAR
