BEGIN:VCALENDAR
VERSION:2.0
PRODID:icalendar-ruby
CALSCALE:GREGORIAN
BEGIN:VEVENT
DTSTAMP:20260419T140618Z
UID:8cb074d6-cba5-4941-a029-52f8bfa158aa
DTSTART:20230502T090000Z
DTEND:20230503T000000Z
DESCRIPTION:webinar from 9:00 to 12:00
SUMMARY:2 May 2023\, FemCOSY Webinar on women in science\, webinar
URL;VALUE=URI:https://www.laserlab-europe.eu/events-1/conferences/conferenc
 e-calendar/2-may-2023-femcosy-webinar-on-women-in-science-webinar
END:VEVENT
END:VCALENDAR
